BEGIN:VCALENDAR
VERSION:2.0
PRODID:-//Beaufort Scale - ECPv6.15.20//NONSGML v1.0//EN
CALSCALE:GREGORIAN
METHOD:PUBLISH
X-WR-CALNAME:Beaufort Scale
X-ORIGINAL-URL:https://beaufortscale.co.uk
X-WR-CALDESC:Events for Beaufort Scale
REFRESH-INTERVAL;VALUE=DURATION:PT1H
X-Robots-Tag:noindex
X-PUBLISHED-TTL:PT1H
BEGIN:VTIMEZONE
TZID:Europe/London
BEGIN:DAYLIGHT
TZOFFSETFROM:+0000
TZOFFSETTO:+0100
TZNAME:BST
DTSTART:20250330T010000
END:DAYLIGHT
BEGIN:STANDARD
TZOFFSETFROM:+0100
TZOFFSETTO:+0000
TZNAME:GMT
DTSTART:20251026T010000
END:STANDARD
BEGIN:DAYLIGHT
TZOFFSETFROM:+0000
TZOFFSETTO:+0100
TZNAME:BST
DTSTART:20260329T010000
END:DAYLIGHT
BEGIN:STANDARD
TZOFFSETFROM:+0100
TZOFFSETTO:+0000
TZNAME:GMT
DTSTART:20261025T010000
END:STANDARD
BEGIN:DAYLIGHT
TZOFFSETFROM:+0000
TZOFFSETTO:+0100
TZNAME:BST
DTSTART:20270328T010000
END:DAYLIGHT
BEGIN:STANDARD
TZOFFSETFROM:+0100
TZOFFSETTO:+0000
TZNAME:GMT
DTSTART:20271031T010000
END:STANDARD
END:VTIMEZONE
BEGIN:VEVENT
DTSTART;TZID=Europe/London:20260503T160000
DTEND;TZID=Europe/London:20260503T180000
DTSTAMP:20260425T151950
CREATED:20260404T124910Z
LAST-MODIFIED:20260404T160018Z
UID:106-1777824000-1777831200@beaufortscale.co.uk
SUMMARY:Live@Goodsheds Barry
DESCRIPTION:Set sail for an afternoon of live music at Goodsheds Barry Join us on Sunday 3rd May from 4–6pm as we bring the spirit of the sea to the Food Court. Expect rousing tunes\, great atmosphere\, and plenty of singalong moments.Best of all? It’s completely FREE — just turn up\, grab a bite or drink\, and enjoy the show.
URL:https://beaufortscale.co.uk/event/livegoodsheds-barry/
CATEGORIES:Free
ATTACH;FMTTYPE=image/jpeg:https://beaufortscale.co.uk/wp-content/uploads/2026/04/659086032_959632916440280_5210369140848516803_n-1.jpg
END:VEVENT
BEGIN:VEVENT
DTSTART;TZID=Europe/London:20260509T150000
DTEND;TZID=Europe/London:20260509T170000
DTSTAMP:20260425T151950
CREATED:20260404T135350Z
LAST-MODIFIED:20260404T160012Z
UID:110-1778338800-1778346000@beaufortscale.co.uk
SUMMARY:Crocs & tots rugby festival - Crickhowell
DESCRIPTION:We had one of our first gigs ever here last year\, and it’s great to be back. A great family day\, with lots of rugby for all ages and abilities\, as well as stalls\, food\, entertainment and fun. \nWe’ll start singing after the final match has finished – sometime between 3-4 pm.
URL:https://beaufortscale.co.uk/event/crocs-tots-rugby-festival-crickhowell/
LOCATION:Crickhowell Rugby Club\, Parc Broyd\, Glangrwyney\, Crickhowell\, NP8 1EE
CATEGORIES:Festival,Free
ATTACH;FMTTYPE=image/jpeg:https://beaufortscale.co.uk/wp-content/uploads/2026/04/crocs-and-tots-2026-1024x724-1.jpg
END:VEVENT
BEGIN:VEVENT
DTSTART;VALUE=DATE:20260516
DTEND;VALUE=DATE:20260517
DTSTAMP:20260425T151950
CREATED:20260223T165706Z
LAST-MODIFIED:20260404T160005Z
UID:84-1778889600-1778975999@beaufortscale.co.uk
SUMMARY:Tales from the Sea shanty festival 2026 - Gosport
DESCRIPTION:Tales from the Sea – Sea Shanty Festival 2026 is set to return on Saturday\, 16th May 2026\, as part of the long-running Gosport Marine Festival.  \nThe event will take place across multiple locations along the Gosport Waterfront\, including Falkland Gardens\, The Creek at Haslar Marina\, Walpole Park\, the Lightship at Haslar Marina\, and the main stage at Millennium Timespace on Gosport Waterfront
URL:https://beaufortscale.co.uk/event/gosport-sea-shanty-festival-2026/
LOCATION:Gosport\, Gosport Waterfront\, Gosport\, Hampshire\, PO12 1EB\, United Kingdom
CATEGORIES:Festival,Free,Public
ATTACH;FMTTYPE=image/jpeg:https://beaufortscale.co.uk/wp-content/uploads/2026/02/Gosport.jpg
END:VEVENT
BEGIN:VEVENT
DTSTART;TZID=Europe/London:20260530T110000
DTEND;TZID=Europe/London:20260531T190000
DTSTAMP:20260425T151950
CREATED:20260223T170517Z
LAST-MODIFIED:20260423T135156Z
UID:91-1780138800-1780254000@beaufortscale.co.uk
SUMMARY:Pirates in the Port Shanty Festival - Newport
DESCRIPTION:Pirates in the Port – City of Newport Shanty & Folk Festival 2026 – builds on the success of the 2025 event and brings the sound of the sea to Newport’s city centre on 30th and 31st May 2026. AND IT’S ALL FREE! \n12 venues stretching from the Corn Exchange to The Riverfront Theatre will host 40-50 of the best UK shanty and folk bands\, playing sets every hour at every venue over the 2 days. \nThe event is again being organised by our friends from Bois y Bryn Shanty Group\, and will be raising money for SARA (Severn Area Rescue Association)\, Wales Air Ambulance and RNLI via bucket collections in the venues. Last year over £2\,000 was raised for these causes and we all hope to better that next time round.
URL:https://beaufortscale.co.uk/event/pirates-in-the-port-shanty-festival-newport/
LOCATION:Newport\, Newport\, United Kingdom
CATEGORIES:Festival,Free,Public
ATTACH;FMTTYPE=image/avif:https://beaufortscale.co.uk/wp-content/uploads/2026/02/PIPT_FB_header_v2-01-Use-this-one.avif
END:VEVENT
BEGIN:VEVENT
DTSTART;TZID=Europe/London:20260606T100000
DTEND;TZID=Europe/London:20260606T170000
DTSTAMP:20260425T151950
CREATED:20260422T111410Z
LAST-MODIFIED:20260423T135140Z
UID:208-1780740000-1780765200@beaufortscale.co.uk
SUMMARY:Abergavenny Arts Festival 2026
DESCRIPTION:More information coming soon!
URL:https://beaufortscale.co.uk/event/abergavenny-arts-festival-2026/
LOCATION:Abergavenny Castle\, Abergavenny\, United Kingdom
CATEGORIES:Festival,Free,Public
END:VEVENT
BEGIN:VEVENT
DTSTART;TZID=Europe/London:20260620T160000
DTEND;TZID=Europe/London:20260620T200000
DTSTAMP:20260425T151950
CREATED:20260404T142528Z
LAST-MODIFIED:20260423T135126Z
UID:125-1781971200-1781985600@beaufortscale.co.uk
SUMMARY:Micro Festival @ Lines Taproom - Usk
DESCRIPTION:We’re back at the lovely Lines Taproom in Usk. \nExact time still to be confirmed – watch this space!
URL:https://beaufortscale.co.uk/event/gig-lines-taproom-usk/
CATEGORIES:Festival,Free,Public
END:VEVENT
BEGIN:VEVENT
DTSTART;TZID=Europe/London:20260702T100000
DTEND;TZID=Europe/London:20260702T170000
DTSTAMP:20260425T151950
CREATED:20260423T131534Z
LAST-MODIFIED:20260423T135352Z
UID:253-1782986400-1783011600@beaufortscale.co.uk
SUMMARY:Recording session
DESCRIPTION:Yes\, we’re diving into a proper studio to record a couple of tracks! \nWatch this space for more information soon.
URL:https://beaufortscale.co.uk/event/recording-session/
CATEGORIES:Private event
ATTACH;FMTTYPE=image/jpeg:https://beaufortscale.co.uk/wp-content/uploads/2026/04/pexels-photo-34538643-34538643.jpg
END:VEVENT
BEGIN:VEVENT
DTSTART;TZID=Europe/London:20260801T100000
DTEND;TZID=Europe/London:20260802T170000
DTSTAMP:20260425T151950
CREATED:20260404T142901Z
LAST-MODIFIED:20260404T155938Z
UID:128-1785578400-1785690000@beaufortscale.co.uk
SUMMARY:Shanty Festival  Weston-super-Mare
DESCRIPTION:We’re really looking forward to our first time at the Weston-super-Mare Shanty Festival! \nCheck out the festival website for all information about the full line-up\, all the different venues\, the festival programme and more. \nDetails timings and venues for our sets are yet to be confirmed – we’ll post more information as soon as it’s confirmed.
URL:https://beaufortscale.co.uk/event/shanty-festival-weston-super-mare/
LOCATION:Weston-super-Mare\, United Kingdom
CATEGORIES:Festival,Free
ATTACH;FMTTYPE=image/png:https://beaufortscale.co.uk/wp-content/uploads/2026/04/Screenshot-2026-04-04-155556.png
END:VEVENT
BEGIN:VEVENT
DTSTART;VALUE=DATE:20260809
DTEND;VALUE=DATE:20260814
DTSTAMP:20260425T151950
CREATED:20260404T153703Z
LAST-MODIFIED:20260404T153745Z
UID:136-1786233600-1786665599@beaufortscale.co.uk
SUMMARY:Tarragona tour - Spain
DESCRIPTION:We’re off to Tarragona to watch the full solar eclipse of Aug 12 together\, as well as doing a range of pop-up gigs and flash mobs in the days leading up to it! \nThis will be our first ‘international tour’ but we’ve already started early planning for a bigger one next year!
URL:https://beaufortscale.co.uk/event/tarragona/
LOCATION:Tarragona\, Tarragona\, Catalonia\, Spain
ATTACH;FMTTYPE=image/jpeg:https://beaufortscale.co.uk/wp-content/uploads/2026/04/Eclipse.jpg
END:VEVENT
BEGIN:VEVENT
DTSTART;TZID=Europe/London:20260919T193000
DTEND;TZID=Europe/London:20260919T220000
DTSTAMP:20260425T151950
CREATED:20260404T154057Z
LAST-MODIFIED:20260423T135408Z
UID:144-1789846200-1789855200@beaufortscale.co.uk
SUMMARY:Lines Taproom - Usk
DESCRIPTION:Back by popular demand for our third gig at the wonderful Lines Taproom in Usk
URL:https://beaufortscale.co.uk/event/lines-taproom-usk/
LOCATION:Lines Taprooms Usk\, 37a Bridge Street\, Usk\, NP15 1BQ
CATEGORIES:Free,Public
END:VEVENT
BEGIN:VEVENT
DTSTART;VALUE=DATE:20261016
DTEND;VALUE=DATE:20261019
DTSTAMP:20260425T151950
CREATED:20260407T122645Z
LAST-MODIFIED:20260423T135212Z
UID:157-1792108800-1792367999@beaufortscale.co.uk
SUMMARY:Mevagissey Shanty Festival 2026
DESCRIPTION:
URL:https://beaufortscale.co.uk/event/mevagissey-shanty-festival-2026/
LOCATION:Mevagissey\, Mevagissey\, Cornwall\, United Kingdom
CATEGORIES:Festival,Free,Public
ATTACH;FMTTYPE=image/png:https://beaufortscale.co.uk/wp-content/uploads/2026/04/MEVAGISSEY-SHANTY-FESTIVAL-2026.png
END:VEVENT
BEGIN:VEVENT
DTSTART;TZID=Europe/London:20261212T190000
DTEND;TZID=Europe/London:20261212T230000
DTSTAMP:20260425T151950
CREATED:20260423T085435Z
LAST-MODIFIED:20260425T111702Z
UID:213-1797102000-1797116400@beaufortscale.co.uk
SUMMARY:Pirate Christmas Party
DESCRIPTION:Join us for a Christmas party with a Pirate theme. Expect lots of music\, singing and fun\n\nAll proceeds to the PinC charity.\n\nMore details to follow nearer the date
URL:https://beaufortscale.co.uk/event/pirate-christmas-party/
LOCATION:All Saints Church Ebbw Vale\, Tredegar Road\, Ebbw Vale\, Gwent\, NP23 6JQ
CATEGORIES:Fundraiser,Public
ATTACH;FMTTYPE=image/avif:https://beaufortscale.co.uk/wp-content/uploads/2026/04/Pirate-Christmas.avif
END:VEVENT
END:VCALENDAR