BEGIN:VCALENDAR
VERSION:2.0
PRODID:-//Beaufort Scale - ECPv6.15.20//NONSGML v1.0//EN
CALSCALE:GREGORIAN
METHOD:PUBLISH
X-ORIGINAL-URL:https://beaufortscale.co.uk
X-WR-CALDESC:Events for Beaufort Scale
REFRESH-INTERVAL;VALUE=DURATION:PT1H
X-Robots-Tag:noindex
X-PUBLISHED-TTL:PT1H
BEGIN:VTIMEZONE
TZID:Europe/London
BEGIN:DAYLIGHT
TZOFFSETFROM:+0000
TZOFFSETTO:+0100
TZNAME:BST
DTSTART:20250330T010000
END:DAYLIGHT
BEGIN:STANDARD
TZOFFSETFROM:+0100
TZOFFSETTO:+0000
TZNAME:GMT
DTSTART:20251026T010000
END:STANDARD
BEGIN:DAYLIGHT
TZOFFSETFROM:+0000
TZOFFSETTO:+0100
TZNAME:BST
DTSTART:20260329T010000
END:DAYLIGHT
BEGIN:STANDARD
TZOFFSETFROM:+0100
TZOFFSETTO:+0000
TZNAME:GMT
DTSTART:20261025T010000
END:STANDARD
BEGIN:DAYLIGHT
TZOFFSETFROM:+0000
TZOFFSETTO:+0100
TZNAME:BST
DTSTART:20270328T010000
END:DAYLIGHT
BEGIN:STANDARD
TZOFFSETFROM:+0100
TZOFFSETTO:+0000
TZNAME:GMT
DTSTART:20271031T010000
END:STANDARD
END:VTIMEZONE
BEGIN:VEVENT
DTSTART;TZID=Europe/London:20260422T190000
DTEND;TZID=Europe/London:20260422T213000
DTSTAMP:20260425T185121
CREATED:20260404T141029Z
LAST-MODIFIED:20260404T160025Z
UID:116-1776884400-1776893400@beaufortscale.co.uk
SUMMARY:Pirates in the Ports - fundraiser
DESCRIPTION:We’re joining Bois y Bryn for this fundraiser event in support of the upcoming Pirates in the Ports Festival (30-31 May\, Newport).
URL:https://beaufortscale.co.uk/event/pirates-in-the-ports-fundraiser/
LOCATION:Whiteheads Sports & Social Club\, Park View\, Bassaleg\, Newport\, NP10 8LA\, United Kingdom
CATEGORIES:Fundraiser,Public
ATTACH;FMTTYPE=image/jpeg:https://beaufortscale.co.uk/wp-content/uploads/2026/04/653700667_955242010352274_5805849942698561917_n.jpg
END:VEVENT
BEGIN:VEVENT
DTSTART;TZID=Europe/London:20260404T080000
DTEND;TZID=Europe/London:20260404T170000
DTSTAMP:20260425T185121
CREATED:20260404T155648Z
LAST-MODIFIED:20260404T160035Z
UID:146-1775289600-1775322000@beaufortscale.co.uk
SUMMARY:Melville Centre for the Arts - Abergavenny
DESCRIPTION:We’re pleased to support this evening fundraiser for the Questbusters (QB) charity\, who support families across Monmouthshire who have a child aged between 6-17 with additional needs. QB do this by providing a diverse range of events throughout the year\, with an emphasis on inclusive and fun activities for the entire family. QB aim to provide activities where people don’t feel judged\, where young people can have positive experiences and where families and carers can benefit from respite and social opportunities. \nAlso providing great entertainment this evening are local wellbeing choir Tenovus Abergavenny and the close harmony male voice choir Synergy. \n 
URL:https://beaufortscale.co.uk/event/melville-centre-for-the-arts-abergavenny/
LOCATION:Melville Centre for the Arts\, 5 Pen-y-Pound\, Abergavenny\, NP7 5UN\, United Kingdom
CATEGORIES:Fundraiser,Public
ATTACH;FMTTYPE=image/jpeg:https://beaufortscale.co.uk/wp-content/uploads/2026/04/QB-Concert.jpg
END:VEVENT
BEGIN:VEVENT
DTSTART;VALUE=DATE:20260321
DTEND;VALUE=DATE:20260323
DTSTAMP:20260425T185121
CREATED:20260212T170638Z
LAST-MODIFIED:20260423T135431Z
UID:18-1774051200-1774223999@beaufortscale.co.uk
SUMMARY:Cockwood Shanty Festival
DESCRIPTION:  \nWe’re looking forward to our first shanty festival of 2026 – Celebrating Songs of the Sea\, in Cockwood\, South Devon. \nDetailed programme to follow – check out the event website
URL:https://beaufortscale.co.uk/event/cockwood-shanty-festival/
LOCATION:Cockwood\, Cockwood\, Starcross\, Devon\, EX6 8RB\, United Kingdom
CATEGORIES:Festival,Free,Public
ATTACH;FMTTYPE=image/jpeg:https://beaufortscale.co.uk/wp-content/uploads/2026/02/627784299_907770508857067_6821674945038358740_n.jpg
END:VEVENT
BEGIN:VEVENT
DTSTART;TZID=Europe/London:20260313T193000
DTEND;TZID=Europe/London:20260313T223000
DTSTAMP:20260425T185121
CREATED:20260223T164630Z
LAST-MODIFIED:20260404T160111Z
UID:82-1773430200-1773441000@beaufortscale.co.uk
SUMMARY:Music4Good@TheWelfare
DESCRIPTION:
URL:https://beaufortscale.co.uk/event/music4goodthewelfare/
LOCATION:The Welfare\, Eugene Cross Park\, Station Approach\, Ebbw Vale\, NP23 5AZ\, United Kingdom
CATEGORIES:Free,Open mic,Public
ATTACH;FMTTYPE=image/jpeg:https://beaufortscale.co.uk/wp-content/uploads/2026/02/e3daa53f-5afa-4a19-82e5-eddb4b08ac40-e1771867187582.jpg
END:VEVENT
BEGIN:VEVENT
DTSTART;TZID=Europe/London:20260213T203000
DTEND;TZID=Europe/London:20260213T213000
DTSTAMP:20260425T185121
CREATED:20260212T165727Z
LAST-MODIFIED:20260404T160054Z
UID:52-1771014600-1771018200@beaufortscale.co.uk
SUMMARY:Acoustic set - Lines Taprooms\, Usk
DESCRIPTION:We’ll be doing an acoustic shanty set at the Lines Taprooms in Usk. \nNo mics or amps\, just seven blokes and two guitars – completely unplugged. \nJoin us from about 8:30 pm on Friday 13th
URL:https://beaufortscale.co.uk/event/acoustic-set-lines-taprooms-usk/
LOCATION:Lines Taprooms Usk\, 37a Bridge Street\, Usk\, NP15 1BQ
CATEGORIES:Free,Public
ATTACH;FMTTYPE=image/jpeg:https://beaufortscale.co.uk/wp-content/uploads/2026/02/Lines-Taproom.jpg
END:VEVENT
END:VCALENDAR