BEGIN:VCALENDAR
VERSION:2.0
PRODID:-//Beaufort Scale - ECPv6.15.20//NONSGML v1.0//EN
CALSCALE:GREGORIAN
METHOD:PUBLISH
X-WR-CALNAME:Beaufort Scale
X-ORIGINAL-URL:https://beaufortscale.co.uk
X-WR-CALDESC:Events for Beaufort Scale
REFRESH-INTERVAL;VALUE=DURATION:PT1H
X-Robots-Tag:noindex
X-PUBLISHED-TTL:PT1H
BEGIN:VTIMEZONE
TZID:Europe/London
BEGIN:DAYLIGHT
TZOFFSETFROM:+0000
TZOFFSETTO:+0100
TZNAME:BST
DTSTART:20250330T010000
END:DAYLIGHT
BEGIN:STANDARD
TZOFFSETFROM:+0100
TZOFFSETTO:+0000
TZNAME:GMT
DTSTART:20251026T010000
END:STANDARD
BEGIN:DAYLIGHT
TZOFFSETFROM:+0000
TZOFFSETTO:+0100
TZNAME:BST
DTSTART:20260329T010000
END:DAYLIGHT
BEGIN:STANDARD
TZOFFSETFROM:+0100
TZOFFSETTO:+0000
TZNAME:GMT
DTSTART:20261025T010000
END:STANDARD
BEGIN:DAYLIGHT
TZOFFSETFROM:+0000
TZOFFSETTO:+0100
TZNAME:BST
DTSTART:20270328T010000
END:DAYLIGHT
BEGIN:STANDARD
TZOFFSETFROM:+0100
TZOFFSETTO:+0000
TZNAME:GMT
DTSTART:20271031T010000
END:STANDARD
END:VTIMEZONE
BEGIN:VEVENT
DTSTART;TZID=Europe/London:20260606T100000
DTEND;TZID=Europe/London:20260606T170000
DTSTAMP:20260425T232901
CREATED:20260422T111410Z
LAST-MODIFIED:20260423T135140Z
UID:208-1780740000-1780765200@beaufortscale.co.uk
SUMMARY:Abergavenny Arts Festival 2026
DESCRIPTION:More information coming soon!
URL:https://beaufortscale.co.uk/event/abergavenny-arts-festival-2026/
LOCATION:Abergavenny Castle\, Abergavenny\, United Kingdom
CATEGORIES:Festival,Free,Public
END:VEVENT
BEGIN:VEVENT
DTSTART;TZID=Europe/London:20260620T160000
DTEND;TZID=Europe/London:20260620T200000
DTSTAMP:20260425T232901
CREATED:20260404T142528Z
LAST-MODIFIED:20260423T135126Z
UID:125-1781971200-1781985600@beaufortscale.co.uk
SUMMARY:Micro Festival @ Lines Taproom - Usk
DESCRIPTION:We’re back at the lovely Lines Taproom in Usk. \nExact time still to be confirmed – watch this space!
URL:https://beaufortscale.co.uk/event/gig-lines-taproom-usk/
LOCATION:Gwent
CATEGORIES:Festival,Free,Public
END:VEVENT
END:VCALENDAR